Package: mosbi Version: 1.13.0 Command: E:\biocbuild\bbs-3.21-bioc\R\bin\R.exe CMD check --no-multiarch --install=check:mosbi.install-out.txt --library=E:\biocbuild\bbs-3.21-bioc\R\library --no-vignettes --timings mosbi_1.13.0.tar.gz StartedAt: 2025-02-21 03:27:34 -0500 (Fri, 21 Feb 2025) EndedAt: 2025-02-21 03:28:52 -0500 (Fri, 21 Feb 2025) EllapsedTime: 77.8 seconds RetCode: 0 Status: WARNINGS CheckDir: mosbi.Rcheck Warnings: 1