Package: mosbi Version: 1.13.0 Command: rm -rf mosbi.buildbin-libdir && mkdir mosbi.buildbin-libdir && E:\biocbuild\bbs-3.21-bioc\R\bin\R.exe CMD INSTALL --build --library=mosbi.buildbin-libdir mosbi_1.13.0.tar.gz StartedAt: 2025-02-21 08:35:06 -0500 (Fri, 21 Feb 2025) EndedAt: 2025-02-21 08:37:14 -0500 (Fri, 21 Feb 2025) EllapsedTime: 128.9 seconds RetCode: 0 Status: OK PackageFile: mosbi_1.13.0.zip PackageFileSize: 1.819 MiB