Package: mosbi Version: 1.13.0 Command: /Library/Frameworks/R.framework/Resources/bin/R CMD build --keep-empty-dirs --no-resave-data mosbi StartedAt: 2025-02-20 17:24:39 -0500 (Thu, 20 Feb 2025) EndedAt: 2025-02-20 17:26:47 -0500 (Thu, 20 Feb 2025) EllapsedTime: 127.7 seconds RetCode: 0 Status: OK PackageFile: mosbi_1.13.0.tar.gz PackageFileSize: 2.723 MiB