Package: mosbi Version: 1.13.0 Command: /Library/Frameworks/R.framework/Resources/bin/R CMD INSTALL mosbi StartedAt: 2025-02-20 15:24:36 -0500 (Thu, 20 Feb 2025) EndedAt: 2025-02-20 15:24:54 -0500 (Thu, 20 Feb 2025) EllapsedTime: 18.3 seconds RetCode: 0 Status: OK