Package: mosbi Version: 1.13.0 Command: _R_CHECK_FORCE_SUGGESTS_=0 /Library/Frameworks/R.framework/Resources/bin/R CMD check --install=check:mosbi.install-out.txt --library=/Library/Frameworks/R.framework/Resources/library --no-vignettes --timings mosbi_1.13.0.tar.gz StartedAt: 2025-02-20 20:16:41 -0500 (Thu, 20 Feb 2025) EndedAt: 2025-02-20 20:16:56 -0500 (Thu, 20 Feb 2025) EllapsedTime: 15.2 seconds RetCode: 0 Status: WARNINGS CheckDir: mosbi.Rcheck Warnings: 1