Package: mosbi Version: 1.13.0 Command: rm -rf mosbi.buildbin-libdir && mkdir mosbi.buildbin-libdir && /Users/biocbuild/BBS/utils/build-universal.sh mosbi_1.13.0.tar.gz /Library/Frameworks/R.framework/Resources/bin/R mosbi.buildbin-libdir StartedAt: 2025-02-20 22:26:27 -0500 (Thu, 20 Feb 2025) EndedAt: 2025-02-20 22:26:47 -0500 (Thu, 20 Feb 2025) EllapsedTime: 20.4 seconds RetCode: 0 Status: OK PackageFile: mosbi_1.13.0.tgz PackageFileSize: 3.037 MiB