Package: mosaics Version: 2.45.0 Command: E:\biocbuild\bbs-3.21-bioc\R\bin\R.exe CMD INSTALL mosaics StartedAt: 2025-02-17 16:08:02 -0500 (Mon, 17 Feb 2025) EndedAt: 2025-02-17 16:09:21 -0500 (Mon, 17 Feb 2025) EllapsedTime: 79.9 seconds RetCode: 0 Status: OK