Package: mosaics Version: 2.45.0 Command: E:\biocbuild\bbs-3.21-bioc\R\bin\R.exe CMD check --no-multiarch --install=check:mosaics.install-out.txt --library=E:\biocbuild\bbs-3.21-bioc\R\library --no-vignettes --timings mosaics_2.45.0.tar.gz StartedAt: 2025-02-18 02:57:56 -0500 (Tue, 18 Feb 2025) EndedAt: 2025-02-18 03:01:43 -0500 (Tue, 18 Feb 2025) EllapsedTime: 227.2 seconds RetCode: 0 Status: OK CheckDir: mosaics.Rcheck Warnings: 0