Package: mosaics Version: 2.45.0 Command: /home/biocbuild/bbs-3.21-bioc/R/bin/R CMD build --keep-empty-dirs --no-resave-data mosaics StartedAt: 2025-02-18 18:06:23 -0500 (Tue, 18 Feb 2025) EndedAt: 2025-02-18 18:08:51 -0500 (Tue, 18 Feb 2025) EllapsedTime: 148.1 seconds RetCode: 0 Status: OK PackageFile: mosaics_2.45.0.tar.gz PackageFileSize: 2.043 MiB