Package: mosaics Version: 2.45.0 Command: /Library/Frameworks/R.framework/Resources/bin/R CMD INSTALL mosaics StartedAt: 2025-02-17 15:15:25 -0500 (Mon, 17 Feb 2025) EndedAt: 2025-02-17 15:16:27 -0500 (Mon, 17 Feb 2025) EllapsedTime: 62.4 seconds RetCode: 0 Status: OK