Package: mosaics Version: 2.45.0 Command: /Library/Frameworks/R.framework/Resources/bin/R CMD check --install=check:mosaics.install-out.txt --library=/Library/Frameworks/R.framework/Resources/library --no-vignettes --timings mosaics_2.45.0.tar.gz StartedAt: 2025-02-17 21:40:53 -0500 (Mon, 17 Feb 2025) EndedAt: 2025-02-17 21:44:14 -0500 (Mon, 17 Feb 2025) EllapsedTime: 201.7 seconds RetCode: 0 Status: OK CheckDir: mosaics.Rcheck Warnings: 0