Package: mosaics Version: 2.45.0 Command: /Library/Frameworks/R.framework/Resources/bin/R CMD build --keep-empty-dirs --no-resave-data mosaics StartedAt: 2025-02-17 17:23:26 -0500 (Mon, 17 Feb 2025) EndedAt: 2025-02-17 17:27:06 -0500 (Mon, 17 Feb 2025) EllapsedTime: 219.7 seconds RetCode: 0 Status: OK PackageFile: mosaics_2.45.0.tar.gz PackageFileSize: 2.043 MiB