Package: mosaics Version: 2.45.0 Command: /Library/Frameworks/R.framework/Resources/bin/R CMD INSTALL mosaics StartedAt: 2025-02-18 15:08:16 -0500 (Tue, 18 Feb 2025) EndedAt: 2025-02-18 15:08:34 -0500 (Tue, 18 Feb 2025) EllapsedTime: 18.0 seconds RetCode: 0 Status: OK