Package: monocle Version: 2.35.0 Command: E:\biocbuild\bbs-3.21-bioc\R\bin\R.exe CMD INSTALL monocle StartedAt: 2025-02-21 16:11:01 -0500 (Fri, 21 Feb 2025) EndedAt: 2025-02-21 16:12:12 -0500 (Fri, 21 Feb 2025) EllapsedTime: 70.7 seconds RetCode: 0 Status: OK