Package: monocle Version: 2.35.0 Command: E:\biocbuild\bbs-3.21-bioc\R\bin\R.exe CMD check --no-multiarch --install=check:monocle.install-out.txt --library=E:\biocbuild\bbs-3.21-bioc\R\library --no-vignettes --timings monocle_2.35.0.tar.gz StartedAt: 2025-02-22 03:54:31 -0500 (Sat, 22 Feb 2025) EndedAt: 2025-02-22 03:56:35 -0500 (Sat, 22 Feb 2025) EllapsedTime: 124.1 seconds RetCode: 0 Status: OK CheckDir: monocle.Rcheck Warnings: 0