Package: monocle Version: 2.35.0 Command: rm -rf monocle.buildbin-libdir && mkdir monocle.buildbin-libdir && E:\biocbuild\bbs-3.21-bioc\R\bin\R.exe CMD INSTALL --build --library=monocle.buildbin-libdir monocle_2.35.0.tar.gz StartedAt: 2025-02-22 08:48:10 -0500 (Sat, 22 Feb 2025) EndedAt: 2025-02-22 08:49:14 -0500 (Sat, 22 Feb 2025) EllapsedTime: 64.3 seconds RetCode: 0 Status: OK PackageFile: monocle_2.35.0.zip PackageFileSize: 1.696 MiB