Package: monocle Version: 2.35.0 Command: /Library/Frameworks/R.framework/Resources/bin/R CMD build --keep-empty-dirs --no-resave-data monocle StartedAt: 2025-02-21 17:25:10 -0500 (Fri, 21 Feb 2025) EndedAt: 2025-02-21 17:25:47 -0500 (Fri, 21 Feb 2025) EllapsedTime: 36.6 seconds RetCode: 0 Status: OK PackageFile: monocle_2.35.0.tar.gz PackageFileSize: 9.006 MiB