Package: monocle Version: 2.35.0 Command: /Library/Frameworks/R.framework/Resources/bin/R CMD build --keep-empty-dirs --no-resave-data monocle StartedAt: 2025-02-20 16:59:43 -0500 (Thu, 20 Feb 2025) EndedAt: 2025-02-20 16:59:55 -0500 (Thu, 20 Feb 2025) EllapsedTime: 12.1 seconds RetCode: 0 Status: OK PackageFile: monocle_2.35.0.tar.gz PackageFileSize: 9.006 MiB