Package: monaLisa Version: 1.13.2 Command: chmod a+r monaLisa -R && E:\biocbuild\bbs-3.21-bioc\R\bin\R.exe CMD build --keep-empty-dirs --no-resave-data monaLisa StartedAt: 2025-02-20 20:05:33 -0500 (Thu, 20 Feb 2025) EndedAt: 2025-02-20 20:11:34 -0500 (Thu, 20 Feb 2025) EllapsedTime: 361.2 seconds RetCode: 0 Status: OK PackageFile: monaLisa_1.13.2.tar.gz PackageFileSize: 4.191 MiB