Package: monaLisa Version: 1.13.2 Command: rm -rf monaLisa.buildbin-libdir && mkdir monaLisa.buildbin-libdir && E:\biocbuild\bbs-3.21-bioc\R\bin\R.exe CMD INSTALL --build --library=monaLisa.buildbin-libdir monaLisa_1.13.2.tar.gz StartedAt: 2025-02-21 08:34:47 -0500 (Fri, 21 Feb 2025) EndedAt: 2025-02-21 08:35:54 -0500 (Fri, 21 Feb 2025) EllapsedTime: 67.0 seconds RetCode: 0 Status: OK PackageFile: monaLisa_1.13.2.zip PackageFileSize: 4.374 MiB