Package: monaLisa Version: 1.13.2 Command: /home/biocbuild/bbs-3.21-bioc/R/bin/R CMD INSTALL monaLisa StartedAt: 2025-02-19 15:51:14 -0500 (Wed, 19 Feb 2025) EndedAt: 2025-02-19 15:51:58 -0500 (Wed, 19 Feb 2025) EllapsedTime: 44.2 seconds RetCode: 0 Status: OK