Package: monaLisa Version: 1.13.2 Command: /home/biocbuild/bbs-3.21-bioc/R/bin/R CMD build --keep-empty-dirs --no-resave-data monaLisa StartedAt: 2025-02-19 18:11:13 -0500 (Wed, 19 Feb 2025) EndedAt: 2025-02-19 18:15:38 -0500 (Wed, 19 Feb 2025) EllapsedTime: 264.3 seconds RetCode: 0 Status: OK PackageFile: monaLisa_1.13.2.tar.gz PackageFileSize: 5.267 MiB