Package: monaLisa Version: 1.13.2 Command: /Library/Frameworks/R.framework/Resources/bin/R CMD build --keep-empty-dirs --no-resave-data monaLisa StartedAt: 2025-02-20 17:24:19 -0500 (Thu, 20 Feb 2025) EndedAt: 2025-02-20 17:30:00 -0500 (Thu, 20 Feb 2025) EllapsedTime: 341.4 seconds RetCode: 0 Status: OK PackageFile: monaLisa_1.13.2.tar.gz PackageFileSize: 6.094 MiB