Package: mogsa Version: 1.41.0 Command: /home/biocbuild/bbs-3.21-bioc/R/bin/R CMD check --install=check:mogsa.install-out.txt --library=/home/biocbuild/bbs-3.21-bioc/R/site-library --timings mogsa_1.41.0.tar.gz StartedAt: 2025-02-20 23:47:28 -0500 (Thu, 20 Feb 2025) EndedAt: 2025-02-20 23:51:58 -0500 (Thu, 20 Feb 2025) EllapsedTime: 270.3 seconds RetCode: 0 Status: OK CheckDir: mogsa.Rcheck Warnings: 0