Package: mogsa Version: 1.41.0 Command: /Library/Frameworks/R.framework/Resources/bin/R CMD build --keep-empty-dirs --no-resave-data mogsa StartedAt: 2025-02-19 17:24:36 -0500 (Wed, 19 Feb 2025) EndedAt: 2025-02-19 17:27:57 -0500 (Wed, 19 Feb 2025) EllapsedTime: 201.0 seconds RetCode: 0 Status: OK PackageFile: mogsa_1.41.0.tar.gz PackageFileSize: 775.9 KiB