Package: mobileRNA Version: 1.3.0 Command: /Library/Frameworks/R.framework/Resources/bin/R CMD build --keep-empty-dirs --no-resave-data mobileRNA StartedAt: 2025-02-20 17:23:23 -0500 (Thu, 20 Feb 2025) EndedAt: 2025-02-20 17:25:12 -0500 (Thu, 20 Feb 2025) EllapsedTime: 109.6 seconds RetCode: 0 Status: OK PackageFile: mobileRNA_1.3.0.tar.gz PackageFileSize: 3.222 MiB