Package: moanin Version: 1.15.0 Command: /Library/Frameworks/R.framework/Resources/bin/R CMD build --keep-empty-dirs --no-resave-data moanin StartedAt: 2025-02-20 17:23:11 -0500 (Thu, 20 Feb 2025) EndedAt: 2025-02-20 17:24:25 -0500 (Thu, 20 Feb 2025) EllapsedTime: 74.2 seconds RetCode: 0 Status: OK PackageFile: moanin_1.15.0.tar.gz PackageFileSize: 555.6 KiB