Package: moanin Version: 1.15.0 Command: /Library/Frameworks/R.framework/Resources/bin/R CMD INSTALL moanin StartedAt: 2025-02-21 15:11:58 -0500 (Fri, 21 Feb 2025) EndedAt: 2025-02-21 15:12:12 -0500 (Fri, 21 Feb 2025) EllapsedTime: 14.4 seconds RetCode: 0 Status: OK