Package: moanin Version: 1.15.0 Command: /Library/Frameworks/R.framework/Resources/bin/R CMD check --install=check:moanin.install-out.txt --library=/Library/Frameworks/R.framework/Resources/library --no-vignettes --timings moanin_1.15.0.tar.gz StartedAt: 2025-02-21 20:52:13 -0500 (Fri, 21 Feb 2025) EndedAt: 2025-02-21 20:54:05 -0500 (Fri, 21 Feb 2025) EllapsedTime: 112.3 seconds RetCode: 0 Status: OK CheckDir: moanin.Rcheck Warnings: 0