Package: mnem Version: 1.23.0 Command: rm -rf mnem.buildbin-libdir && mkdir mnem.buildbin-libdir && E:\biocbuild\bbs-3.21-bioc\R\bin\R.exe CMD INSTALL --build --library=mnem.buildbin-libdir mnem_1.23.0.tar.gz StartedAt: 2025-02-21 08:34:13 -0500 (Fri, 21 Feb 2025) EndedAt: 2025-02-21 08:35:03 -0500 (Fri, 21 Feb 2025) EllapsedTime: 50.0 seconds RetCode: 0 Status: OK PackageFile: mnem_1.23.0.zip PackageFileSize: 3.625 MiB