Package: mnem Version: 1.23.0 Command: /home/biocbuild/bbs-3.21-bioc/R/bin/R CMD INSTALL mnem StartedAt: 2025-02-20 15:23:01 -0500 (Thu, 20 Feb 2025) EndedAt: 2025-02-20 15:23:03 -0500 (Thu, 20 Feb 2025) EllapsedTime: 1.6 seconds RetCode: 1 Status: ERROR