Package: mnem Version: 1.23.0 Command: /home/biocbuild/bbs-3.21-bioc/R/bin/R CMD check --install=check:mnem.install-out.txt --library=/home/biocbuild/bbs-3.21-bioc/R/site-library --timings mnem_1.23.0.tar.gz StartedAt: 2025-02-20 00:11:18 -0500 (Thu, 20 Feb 2025) EndedAt: 2025-02-20 00:13:39 -0500 (Thu, 20 Feb 2025) EllapsedTime: 141.1 seconds RetCode: 0 Status: OK CheckDir: mnem.Rcheck Warnings: 0