############################################################################## ############################################################################## ### ### Running command: ### ### /home/biocbuild/bbs-3.21-bioc/R/bin/R CMD build --keep-empty-dirs --no-resave-data mnem ### ############################################################################## ############################################################################## * checking for file ‘mnem/DESCRIPTION’ ... OK * preparing ‘mnem’: * checking DESCRIPTION meta-information ... OK * cleaning src * installing the package to build vignettes ----------------------------------- ERROR: dependency ‘Rgraphviz’ is not available for package ‘mnem’ Perhaps try a variation of: install.packages('Rgraphviz') * removing ‘/tmp/RtmpthW652/Rinst1b8dd2723341c8/mnem’ ----------------------------------- ERROR: package installation failed