Package: mnem Version: 1.23.0 Command: /Library/Frameworks/R.framework/Resources/bin/R CMD check --install=check:mnem.install-out.txt --library=/Library/Frameworks/R.framework/Resources/library --no-vignettes --timings mnem_1.23.0.tar.gz StartedAt: 2025-02-20 20:14:27 -0500 (Thu, 20 Feb 2025) EndedAt: 2025-02-20 20:15:11 -0500 (Thu, 20 Feb 2025) EllapsedTime: 44.5 seconds RetCode: 0 Status: OK CheckDir: mnem.Rcheck Warnings: 0