Package: mnem Version: 1.23.0 Command: /Library/Frameworks/R.framework/Resources/bin/R CMD build --keep-empty-dirs --no-resave-data mnem StartedAt: 2025-02-20 16:58:46 -0500 (Thu, 20 Feb 2025) EndedAt: 2025-02-20 16:59:13 -0500 (Thu, 20 Feb 2025) EllapsedTime: 27.3 seconds RetCode: 0 Status: OK PackageFile: mnem_1.23.0.tar.gz PackageFileSize: 4.798 MiB