Package: mixOmics Version: 6.31.4 Command: E:\biocbuild\bbs-3.21-bioc\R\bin\R.exe CMD INSTALL mixOmics StartedAt: 2025-02-19 16:11:49 -0500 (Wed, 19 Feb 2025) EndedAt: 2025-02-19 16:13:35 -0500 (Wed, 19 Feb 2025) EllapsedTime: 106.0 seconds RetCode: 0 Status: OK