Package: mixOmics Version: 6.31.4 Command: chmod a+r mixOmics -R && E:\biocbuild\bbs-3.21-bioc\R\bin\R.exe CMD build --keep-empty-dirs --no-resave-data mixOmics StartedAt: 2025-02-19 19:59:35 -0500 (Wed, 19 Feb 2025) EndedAt: 2025-02-19 20:14:06 -0500 (Wed, 19 Feb 2025) EllapsedTime: 870.7 seconds RetCode: 0 Status: OK PackageFile: mixOmics_6.31.4.tar.gz PackageFileSize: 10.2 MiB