Package: mixOmics Version: 6.31.4 Command: rm -rf mixOmics.buildbin-libdir && mkdir mixOmics.buildbin-libdir && E:\biocbuild\bbs-3.21-bioc\R\bin\R.exe CMD INSTALL --build --library=mixOmics.buildbin-libdir mixOmics_6.31.4.tar.gz StartedAt: 2025-02-20 08:12:58 -0500 (Thu, 20 Feb 2025) EndedAt: 2025-02-20 08:14:29 -0500 (Thu, 20 Feb 2025) EllapsedTime: 90.7 seconds RetCode: 0 Status: OK PackageFile: mixOmics_6.31.4.zip PackageFileSize: 10.05 MiB