Package: mixOmics Version: 6.31.4 Command: /Library/Frameworks/R.framework/Resources/bin/R CMD INSTALL mixOmics StartedAt: 2025-02-20 15:23:23 -0500 (Thu, 20 Feb 2025) EndedAt: 2025-02-20 15:24:08 -0500 (Thu, 20 Feb 2025) EllapsedTime: 44.8 seconds RetCode: 0 Status: OK