Package: mixOmics Version: 6.31.4 Command: /home/biocbuild/R/R/bin/R CMD build --keep-empty-dirs --no-resave-data mixOmics StartedAt: 2025-01-29 00:25:05 -0000 (Wed, 29 Jan 2025) EndedAt: 2025-01-29 00:42:43 -0000 (Wed, 29 Jan 2025) EllapsedTime: 1057.5 seconds RetCode: 0 Status: OK PackageFile: mixOmics_6.31.4.tar.gz PackageFileSize: 11.3 MiB