Package: mixOmics Version: 6.31.4 Command: /Library/Frameworks/R.framework/Resources/bin/R CMD INSTALL mixOmics StartedAt: 2025-02-20 15:14:53 -0500 (Thu, 20 Feb 2025) EndedAt: 2025-02-20 15:15:06 -0500 (Thu, 20 Feb 2025) EllapsedTime: 12.9 seconds RetCode: 0 Status: OK