Package: mixOmics Version: 6.31.4 Command: /Library/Frameworks/R.framework/Resources/bin/R CMD check --install=check:mixOmics.install-out.txt --library=/Library/Frameworks/R.framework/Resources/library --no-vignettes --timings mixOmics_6.31.4.tar.gz StartedAt: 2025-02-20 20:13:24 -0500 (Thu, 20 Feb 2025) EndedAt: 2025-02-20 20:19:53 -0500 (Thu, 20 Feb 2025) EllapsedTime: 389.3 seconds RetCode: 0 Status: OK CheckDir: mixOmics.Rcheck Warnings: 0