Package: mixOmics Version: 6.31.4 Command: /Library/Frameworks/R.framework/Resources/bin/R CMD build --keep-empty-dirs --no-resave-data mixOmics StartedAt: 2025-02-20 16:58:15 -0500 (Thu, 20 Feb 2025) EndedAt: 2025-02-20 17:02:02 -0500 (Thu, 20 Feb 2025) EllapsedTime: 226.5 seconds RetCode: 0 Status: OK PackageFile: mixOmics_6.31.4.tar.gz PackageFileSize: 19.11 MiB