Package: mixOmics Version: 6.31.4 Command: rm -rf mixOmics.buildbin-libdir && mkdir mixOmics.buildbin-libdir && /Users/biocbuild/BBS/utils/build-universal.sh mixOmics_6.31.4.tar.gz /Library/Frameworks/R.framework/Resources/bin/R mixOmics.buildbin-libdir StartedAt: 2025-02-20 22:26:04 -0500 (Thu, 20 Feb 2025) EndedAt: 2025-02-20 22:26:18 -0500 (Thu, 20 Feb 2025) EllapsedTime: 14.3 seconds RetCode: 0 Status: OK PackageFile: mixOmics_6.31.4.tgz PackageFileSize: 18.98 MiB