Package: mitoClone2 Version: 1.13.0 Command: /home/biocbuild/bbs-3.21-bioc/R/bin/R CMD INSTALL mitoClone2 StartedAt: 2025-02-19 15:54:47 -0500 (Wed, 19 Feb 2025) EndedAt: 2025-02-19 15:55:37 -0500 (Wed, 19 Feb 2025) EllapsedTime: 49.8 seconds RetCode: 0 Status: OK