Package: mitoClone2 Version: 1.13.0 Command: /Library/Frameworks/R.framework/Resources/bin/R CMD check --install=check:mitoClone2.install-out.txt --library=/Library/Frameworks/R.framework/Resources/library --no-vignettes --timings mitoClone2_1.13.0.tar.gz StartedAt: 2025-02-20 21:41:24 -0500 (Thu, 20 Feb 2025) EndedAt: 2025-02-20 21:47:49 -0500 (Thu, 20 Feb 2025) EllapsedTime: 384.6 seconds RetCode: 0 Status: WARNINGS CheckDir: mitoClone2.Rcheck Warnings: 2