Package: mitch Version: 1.19.3 Command: E:\biocbuild\bbs-3.21-bioc\R\bin\R.exe CMD check --no-multiarch --install=check:mitch.install-out.txt --library=E:\biocbuild\bbs-3.21-bioc\R\library --no-vignettes --timings mitch_1.19.3.tar.gz StartedAt: 2025-02-20 03:05:31 -0500 (Thu, 20 Feb 2025) EndedAt: 2025-02-20 03:10:17 -0500 (Thu, 20 Feb 2025) EllapsedTime: 285.7 seconds RetCode: 0 Status: OK CheckDir: mitch.Rcheck Warnings: 0