Package: mitch Version: 1.19.3 Command: chmod a+r mitch -R && E:\biocbuild\bbs-3.21-bioc\R\bin\R.exe CMD build --keep-empty-dirs --no-resave-data mitch StartedAt: 2025-02-19 19:59:15 -0500 (Wed, 19 Feb 2025) EndedAt: 2025-02-19 20:08:03 -0500 (Wed, 19 Feb 2025) EllapsedTime: 527.8 seconds RetCode: 0 Status: OK PackageFile: mitch_1.19.3.tar.gz PackageFileSize: 996.3 KiB