Package: mitch Version: 1.19.3 Command: rm -rf mitch.buildbin-libdir && mkdir mitch.buildbin-libdir && E:\biocbuild\bbs-3.21-bioc\R\bin\R.exe CMD INSTALL --build --library=mitch.buildbin-libdir mitch_1.19.3.tar.gz StartedAt: 2025-02-20 08:12:49 -0500 (Thu, 20 Feb 2025) EndedAt: 2025-02-20 08:13:04 -0500 (Thu, 20 Feb 2025) EllapsedTime: 14.3 seconds RetCode: 0 Status: OK PackageFile: mitch_1.19.3.zip PackageFileSize: 1.098 MiB