Package: mitch Version: 1.19.3 Command: /home/biocbuild/bbs-3.21-bioc/R/bin/R CMD build --keep-empty-dirs --no-resave-data mitch StartedAt: 2025-02-18 18:02:46 -0500 (Tue, 18 Feb 2025) EndedAt: 2025-02-18 18:08:58 -0500 (Tue, 18 Feb 2025) EllapsedTime: 371.4 seconds RetCode: 0 Status: OK PackageFile: mitch_1.19.3.tar.gz PackageFileSize: 996 KiB